BEGIN:VCALENDAR
VERSION:2.0
PRODID:icalendar-ruby
CALSCALE:GREGORIAN
METHOD:PUBLISH
BEGIN:VEVENT
DTSTAMP:20260423T092441Z
UID:12-485374@rol-ag.com
DTSTART:20260913T130000Z
DTEND:20260913T141500Z
CLASS:PUBLIC
CREATED:20260422T220825
DESCRIPTION:
LAST-MODIFIED:20260422T220825
LOCATION:16650 Sumpter Rd. Belleville\, MI 48111
SUMMARY:Sunday Worship
URL;VALUE=URI:https://www.rol-ag.com/events/sunday-worship/2026-09-13
ATTACH;FILENAME=two-services-%281%29.png;FMTTYPE=image/png:https://dq5pwpg1
 q8ru0.cloudfront.net/2025/07/29/14/33/10/7d06deba-86bd-453d-9c38-c93dea4b1
 548/two-services-%25281%2529.png
END:VEVENT
END:VCALENDAR
